BEGIN:VCALENDAR
VERSION:2.0
PRODID:KKTIX
CALSCALE:GREGORIAN
METHOD:PUBLISH
BEGIN:VTIMEZONE
TZID:Asia/Taipei
END:VTIMEZONE
BEGIN:VEVENT
DTSTAMP:20260423T134010Z
UID:a046c5b9-1cfb-480f-958f-9636a143d0d0
DTSTART:20260605T120000Z
DTEND:20260605T120000Z
CLASS:PUBLIC
DESCRIPTION:https://riversidelivehouse.kktix.cc/events/260605-1019-b
LOCATION: (108台北市萬華區西寧南路177號) 河岸留言西門紅
 樓展演館
SUMMARY:【 J.E.G 這個爵士樂團 】
END:VEVENT
END:VCALENDAR
